BEGIN:VCALENDAR
VERSION:2.0
PRODID:-//wp-events-plugin.com//7.2.3.1//EN
TZID:Europe/Rome
X-WR-TIMEZONE:Europe/Rome
BEGIN:VEVENT
UID:3830@visitroseto.it
DTSTART;TZID=Europe/Rome:20260419T100000
DTEND;TZID=Europe/Rome:20260419T180000
DTSTAMP:20260416T165704Z
URL:https://www.visitroseto.it/events/una-marea-di-aquiloni/
SUMMARY:Una marea di aquiloni
DESCRIPTION:Roseto degli Abruzzi si prepara a vivere il primo grande evento
  suo cartellone delle manifestazioni. Domenica 19 aprile\, a dipingere l
 ’orizzonte saranno tanti aquiloni colorati pronti a librarsi in volo gra
 zie alla prima edizione di “Un Mare di Aquiloni”\, manifestazione che\
 , dalle 10:00 in poi\, accenderà il lungomare della città.\nL’iniziati
 va\, promossa dall’Amministrazione Comunale in collaborazione con Eventi
  Volanti\, nasce con l'obiettivo di celebrare la bellezza della costa attr
 averso un intrattenimento sano e capace di unire generazioni diverse sotto
  lo stesso cielo colorato.\n&nbsp\;\nL'evento si snoderà lungo la battigi
 a antistante il Lido Ahmar\, il Lido Scirocco e il Lido Orsa Minore. Non s
 i tratterà di una semplice esibizione\, ma di una vera e propria immersio
 ne nella cultura del volo. Passeggiando\, i visitatori potranno ammirare l
 e geometrie degli aquiloni statici che faranno da cornice alle evoluzioni 
 degli aquiloni acrobatici. A rendere lo scenario ancora più magico contri
 buiranno le grandi figure gonfiabili che saranno posizionate sulla spiaggi
 a.\nIl cuore pulsante della manifestazione sarà il coinvolgimento diretto
  dei più piccoli e delle famiglie. Attraverso un laboratorio gratuito di 
 costruzione\, i bambini potranno trasformarsi in piccoli artigiani\, assem
 blando il proprio aquilone con carta\, stecche e spago. Una volta terminat
 a la creazione\, non resterà che correre verso la riva dove la scuola di 
 volo presente sull'arenile guiderà i neo-piloti nei loro primi decolli.\n
 L'ingresso alla manifestazione è libero e gratuito\, un invito aperto a c
 hiunque voglia trascorrere una domenica di primavera in modo diverso.
ATTACH;FMTTYPE=image/jpeg:https://www.visitroseto.it/wp-content/uploads/20
 26/04/post-bando-fonte-dellolmo-IG.jpg
CATEGORIES:Intrattenimento
LOCATION:Lido Ahmar\, Lungomare Trieste\, 34\, Roseto degli Abruzzi\, 64026
 \, Italia
GEO:42.671869;14.02127
X-APPLE-STRUCTURED-LOCATION;VALUE=URI;X-ADDRESS=Lungomare Trieste\, 34\, Ro
 seto degli Abruzzi\, 64026\, Italia;X-APPLE-RADIUS=100;X-TITLE=Lido Ahmar:
 geo:42.671869,14.02127
END:VEVENT
BEGIN:VTIMEZONE
TZID:Europe/Rome
X-LIC-LOCATION:Europe/Rome
BEGIN:DAYLIGHT
DTSTART:20260329T030000
TZOFFSETFROM:+0100
TZOFFSETTO:+0200
TZNAME:CEST
END:DAYLIGHT
END:VTIMEZONE
END:VCALENDAR