BEGIN:VCALENDAR
VERSION:2.0
PRODID:-//wp-events-plugin.com//7.2.3.1//EN
TZID:Europe/Rome
X-WR-TIMEZONE:Europe/Rome
BEGIN:VEVENT
UID:3883@visitroseto.it
DTSTART;TZID=Europe/Rome:20260819T180000
DTEND;TZID=Europe/Rome:20260822T234500
DTSTAMP:20260421T084803Z
URL:https://www.visitroseto.it/events/transumare-fest-2026/
SUMMARY:Transumare Fest 2026
DESCRIPTION:tutte le info sul sito ufficiale https://www.transumarefest.com
 /\n\nBIGLIETTI DISPONIBILI:\nDAY 1 : https://xceed.me/it/roseto-degli-abru
 zzi/event/transumare-fest-2026-day-1/222554\nDAY 2 : https://xceed.me/it/r
 oseto-degli-abruzzi/event/transumare-fest-2026-day-2/222558\nDAY 3 : https
 ://xceed.me/it/roseto-degli-abruzzi/event/transumare-fest-2026-day-3/22256
 0
ATTACH;FMTTYPE=image/jpeg:https://www.visitroseto.it/wp-content/uploads/20
 26/04/659574987_17945035014141072_445839712196282683_n.jpg
CATEGORIES:Musica
LOCATION:Lungomare Trento\, Lungomare Trento\, 99\, Roseto degli Abruzzi\, 
 Teramo\, 64026\, Abruzzo\, Italia
GEO:42.68967;14.008346
X-APPLE-STRUCTURED-LOCATION;VALUE=URI;X-ADDRESS=Lungomare Trento\, 99\, Ros
 eto degli Abruzzi\, Teramo\, 64026\, Abruzzo\, Italia;X-APPLE-RADIUS=100;X
 -TITLE=Lungomare Trento:geo:42.68967,14.008346
END:VEVENT
BEGIN:VTIMEZONE
TZID:Europe/Rome
X-LIC-LOCATION:Europe/Rome
BEGIN:DAYLIGHT
DTSTART:20260329T030000
TZOFFSETFROM:+0100
TZOFFSETTO:+0200
TZNAME:CEST
END:DAYLIGHT
END:VTIMEZONE
END:VCALENDAR