BEGIN:VCALENDAR
VERSION:2.0
PRODID:-//wp-events-plugin.com//7.2.3.1//EN
TZID:Europe/Rome
X-WR-TIMEZONE:Europe/Rome
BEGIN:VEVENT
UID:3833@visitroseto.it
DTSTART;TZID=Europe/Rome:20260509T210000
DTEND;TZID=Europe/Rome:20260509T230000
DTSTAMP:20260416T160501Z
URL:https://www.visitroseto.it/events/roseto-damare-classica-jazz-2026/
SUMMARY:Roseto d'aMare - Classica & Jazz 2026
DESCRIPTION:(JAZZ) Gianluca Caporale Duo - sax e chitarra
ATTACH;FMTTYPE=image/jpeg:https://www.visitroseto.it/wp-content/uploads/20
 26/04/1000194529.jpg
CATEGORIES:Musica
LOCATION:Villa Comunale\, Via Nazionale\, 250\, Roseto degli Abruzzi\, 6402
 6\, Italia
GEO:42.675378;14.015913
X-APPLE-STRUCTURED-LOCATION;VALUE=URI;X-ADDRESS=Via Nazionale\, 250\, Roset
 o degli Abruzzi\, 64026\, Italia;X-APPLE-RADIUS=100;X-TITLE=Villa Comunale
 :geo:42.675378,14.015913
END:VEVENT
BEGIN:VTIMEZONE
TZID:Europe/Rome
X-LIC-LOCATION:Europe/Rome
BEGIN:DAYLIGHT
DTSTART:20260329T030000
TZOFFSETFROM:+0100
TZOFFSETTO:+0200
TZNAME:CEST
END:DAYLIGHT
END:VTIMEZONE
END:VCALENDAR