BEGIN:VCALENDAR
VERSION:2.0
PRODID:-//wp-events-plugin.com//7.2.3.1//EN
TZID:Europe/Rome
X-WR-TIMEZONE:Europe/Rome
BEGIN:VEVENT
UID:3854@visitroseto.it
DTSTART;TZID=Europe/Rome:20261107T210000
DTEND;TZID=Europe/Rome:20261107T230000
DTSTAMP:20260416T160542Z
URL:https://www.visitroseto.it/events/roseto-damare-classica-jazz-2026-8/
SUMMARY:Roseto d'aMare - Classica & Jazz 2026
DESCRIPTION:(CLASSICA) Duo Leonard\nFrancesco CIccaglione (violino)\nPaolo 
 D'Agostino (pianoforte)
ATTACH;FMTTYPE=image/jpeg:https://www.visitroseto.it/wp-content/uploads/20
 26/04/1000194528.jpg
CATEGORIES:Musica
LOCATION:Villa Comunale\, Via Nazionale\, 250\, Roseto degli Abruzzi\, 6402
 6\, Italia
GEO:42.675378;14.015913
X-APPLE-STRUCTURED-LOCATION;VALUE=URI;X-ADDRESS=Via Nazionale\, 250\, Roset
 o degli Abruzzi\, 64026\, Italia;X-APPLE-RADIUS=100;X-TITLE=Villa Comunale
 :geo:42.675378,14.015913
END:VEVENT
BEGIN:VTIMEZONE
TZID:Europe/Rome
X-LIC-LOCATION:Europe/Rome
BEGIN:STANDARD
DTSTART:20261025T020000
TZOFFSETFROM:+0200
TZOFFSETTO:+0100
TZNAME:CET
END:STANDARD
END:VTIMEZONE
END:VCALENDAR