BEGIN:VCALENDAR
VERSION:2.0
PRODID:-//wp-events-plugin.com//7.2.3.1//EN
TZID:Europe/Rome
X-WR-TIMEZONE:Europe/Rome
BEGIN:VEVENT
UID:3845@visitroseto.it
DTSTART;TZID=Europe/Rome:20260813T211500
DTEND;TZID=Europe/Rome:20260813T230000
DTSTAMP:20260416T160526Z
URL:https://www.visitroseto.it/events/roseto-damare-classica-jazz-2026-5/
SUMMARY:Roseto d'aMare - Classica & Jazz 2026
DESCRIPTION:Il Tango di Astor Piazzolla\nGianni Iorio Quartet\n\npresenta: 
 Maria Rita Piersanti
ATTACH;FMTTYPE=image/jpeg:https://www.visitroseto.it/wp-content/uploads/20
 26/04/1000194526.jpg
CATEGORIES:Musica
LOCATION:Piazza della Repubblica\, Piazza della Repubblica\, \, Roseto degl
 i Abruzzi\, Teramo\, 64026\, Abruzzi\, Italia
GEO:42.679887;14.010971
X-APPLE-STRUCTURED-LOCATION;VALUE=URI;X-ADDRESS=Piazza della Repubblica\, \
 , Roseto degli Abruzzi\, Teramo\, 64026\, Abruzzi\, Italia;X-APPLE-RADIUS=
 100;X-TITLE=Piazza della Repubblica:geo:42.679887,14.010971
END:VEVENT
BEGIN:VTIMEZONE
TZID:Europe/Rome
X-LIC-LOCATION:Europe/Rome
BEGIN:DAYLIGHT
DTSTART:20260329T030000
TZOFFSETFROM:+0100
TZOFFSETTO:+0200
TZNAME:CEST
END:DAYLIGHT
END:VTIMEZONE
END:VCALENDAR