BEGIN:VCALENDAR
VERSION:2.0
PRODID:-//wp-events-plugin.com//7.2.3.1//EN
TZID:Europe/Rome
X-WR-TIMEZONE:Europe/Rome
BEGIN:VEVENT
UID:3842@visitroseto.it
DTSTART;TZID=Europe/Rome:20260809T211500
DTEND;TZID=Europe/Rome:20260809T230000
DTSTAMP:20260416T160518Z
URL:https://www.visitroseto.it/events/roseto-damare-classica-jazz-2026-4/
SUMMARY:Roseto d'aMare - Classica & Jazz 2026
DESCRIPTION:Morricone Western Orchestra "Duchi d'Acquaviva"\n\nNataliya Gon
 chak (direttore)\nNataliia Vasyliuk (soprano)\n\npresenta: Maria Rita Pier
 santi\n\nCologna Paese - Piazza G.Rossa
ATTACH;FMTTYPE=image/jpeg:https://www.visitroseto.it/wp-content/uploads/20
 26/04/1000194527.jpg
CATEGORIES:Musica
LOCATION:Piazza G. Rossa\, Piazza G. Rossa\, Roseto degli Abruzzi\, 64026\,
  Italia
GEO:42.6947;13.94991
X-APPLE-STRUCTURED-LOCATION;VALUE=URI;X-ADDRESS=Piazza G. Rossa\, Roseto de
 gli Abruzzi\, 64026\, Italia;X-APPLE-RADIUS=100;X-TITLE=Piazza G. Rossa:ge
 o:42.6947,13.94991
END:VEVENT
BEGIN:VTIMEZONE
TZID:Europe/Rome
X-LIC-LOCATION:Europe/Rome
BEGIN:DAYLIGHT
DTSTART:20260329T030000
TZOFFSETFROM:+0100
TZOFFSETTO:+0200
TZNAME:CEST
END:DAYLIGHT
END:VTIMEZONE
END:VCALENDAR