BEGIN:VCALENDAR
VERSION:2.0
PRODID:-//wp-events-plugin.com//7.2.3.1//EN
TZID:Europe/Rome
X-WR-TIMEZONE:Europe/Rome
BEGIN:VEVENT
UID:3839@visitroseto.it
DTSTART;TZID=Europe/Rome:20260726T211500
DTEND;TZID=Europe/Rome:20260726T230000
DTSTAMP:20260416T160512Z
URL:https://www.visitroseto.it/events/roseto-damare-classica-jazz-2026-3/
SUMMARY:Roseto d'aMare - Classica & Jazz 2026
DESCRIPTION:Gran Galà Lirico - Orchestra "Duchi d'Acquaviva"\nPaolo D'Agos
 tino (direttore)\nSara Fulvi (soprano)\nGiacomo Leone (tenore)\nVittorio D
 el Monte (basso-baritono)\n\npresenta: Maria Rita Piersanti\n\nMontepagano
  -  Piazza del Municipio
ATTACH;FMTTYPE=image/jpeg:https://www.visitroseto.it/wp-content/uploads/20
 26/04/1000194527.jpg
CATEGORIES:Musica
LOCATION:Borgo di Montepagano\, Piazza del Municipio\, Roseto degli Abruzzi
 \, 64026\, Italia
GEO:42.677662;13.9887
X-APPLE-STRUCTURED-LOCATION;VALUE=URI;X-ADDRESS=Piazza del Municipio\, Rose
 to degli Abruzzi\, 64026\, Italia;X-APPLE-RADIUS=100;X-TITLE=Borgo di Mont
 epagano:geo:42.677662,13.9887
END:VEVENT
BEGIN:VTIMEZONE
TZID:Europe/Rome
X-LIC-LOCATION:Europe/Rome
BEGIN:DAYLIGHT
DTSTART:20260329T030000
TZOFFSETFROM:+0100
TZOFFSETTO:+0200
TZNAME:CEST
END:DAYLIGHT
END:VTIMEZONE
END:VCALENDAR