BEGIN:VCALENDAR
VERSION:2.0
PRODID:-//wp-events-plugin.com//7.2.3.1//EN
TZID:Europe/Rome
X-WR-TIMEZONE:Europe/Rome
BEGIN:VEVENT
UID:3886@visitroseto.it
DTSTART;TZID=Europe/Rome:20260829T210000
DTEND;TZID=Europe/Rome:20260829T230000
DTSTAMP:20260421T093350Z
URL:https://www.visitroseto.it/events/francesca-michielin-concerto-gratuit
 o/
SUMMARY:Francesca Michielin - concerto gratuito
DESCRIPTION:
ATTACH;FMTTYPE=image/jpeg:https://www.visitroseto.it/wp-content/uploads/20
 26/04/654840586_1266637358944924_1769241609711916698_n.jpg
CATEGORIES:Musica
LOCATION:Lungomare Centrale\, Lungomare Roma\, Roseto degli Abruzzi\, 64026
 \, Italia
GEO:42.677264;14.016924
X-APPLE-STRUCTURED-LOCATION;VALUE=URI;X-ADDRESS=Lungomare Roma\, Roseto deg
 li Abruzzi\, 64026\, Italia;X-APPLE-RADIUS=100;X-TITLE=Lungomare Centrale:
 geo:42.677264,14.016924
END:VEVENT
BEGIN:VTIMEZONE
TZID:Europe/Rome
X-LIC-LOCATION:Europe/Rome
BEGIN:DAYLIGHT
DTSTART:20260329T030000
TZOFFSETFROM:+0100
TZOFFSETTO:+0200
TZNAME:CEST
END:DAYLIGHT
END:VTIMEZONE
END:VCALENDAR